BEGIN:VCALENDAR
VERSION:2.0
PRODID:-//The Tackle Box - ECPv6.15.17.1//NONSGML v1.0//EN
CALSCALE:GREGORIAN
METHOD:PUBLISH
X-WR-CALNAME:The Tackle Box
X-ORIGINAL-URL:https://tystacklebox.com
X-WR-CALDESC:Events for The Tackle Box
REFRESH-INTERVAL;VALUE=DURATION:PT1H
X-Robots-Tag:noindex
X-PUBLISHED-TTL:PT1H
BEGIN:VTIMEZONE
TZID:America/New_York
BEGIN:DAYLIGHT
TZOFFSETFROM:-0500
TZOFFSETTO:-0400
TZNAME:EDT
DTSTART:20230312T070000
END:DAYLIGHT
BEGIN:STANDARD
TZOFFSETFROM:-0400
TZOFFSETTO:-0500
TZNAME:EST
DTSTART:20231105T060000
END:STANDARD
BEGIN:DAYLIGHT
TZOFFSETFROM:-0500
TZOFFSETTO:-0400
TZNAME:EDT
DTSTART:20240310T070000
END:DAYLIGHT
BEGIN:STANDARD
TZOFFSETFROM:-0400
TZOFFSETTO:-0500
TZNAME:EST
DTSTART:20241103T060000
END:STANDARD
BEGIN:DAYLIGHT
TZOFFSETFROM:-0500
TZOFFSETTO:-0400
TZNAME:EDT
DTSTART:20250309T070000
END:DAYLIGHT
BEGIN:STANDARD
TZOFFSETFROM:-0400
TZOFFSETTO:-0500
TZNAME:EST
DTSTART:20251102T060000
END:STANDARD
END:VTIMEZONE
BEGIN:VEVENT
DTSTART;TZID=America/New_York:20241019T123000
DTEND;TZID=America/New_York:20241019T160000
DTSTAMP:20260422T195031
CREATED:20240821T000251Z
LAST-MODIFIED:20240821T001924Z
UID:10000536-1729341000-1729353600@tystacklebox.com
SUMMARY:Puzzles\, Pedals & Pies at Ponfeigh
DESCRIPTION:Love puzzles? Then\, get your four-person team together and step up to Sister Sojourn’s social speed puzzling challenge. Speed puzzling is an exciting twist on traditional jigsaw puzzles. The focus of the event is on completing the puzzle as quickly as possible\, having fun with friends/family\, and raising funds for metastatic breast cancer research. The top three teams receive generously donated cash prizes.  \n\n\n\nHere’s What You Get\n\n\n\nTeam Participation includes:\n\n\n\n\nEntry for a team of four participants into the speed puzzle competition\n\n\n\nFour servings of pizza sponsored by Dough Girls Pizza\n\n\n\nFour Ponfeigh Distillery beverage tickets\n\n\n\nFour dessert tickets sponsored by The Tacklebox\n\n\n\nA 500-piece puzzle sponsored by Masterpieces Puzzles\, Inc.\n\n\n\nFour raffle/silent auction tickets\n\n\n\nPonfeigh Distillery tour\n\n\n\nThe first 20 teams to register receive a Reese’s Peanut Butter Cup Halloween-themed plushie
URL:https://tystacklebox.com/activity/puzzles-pedals-pies-at-ponfeigh/
LOCATION:Ponfeigh Distillery and Events Center\, 893 Stoystown Road\, Somerset\, Pennsylvania\, 15501\, United States
CATEGORIES:Community Events,Fundraising
ATTACH;FMTTYPE=image/jpeg:https://tystacklebox.com/wp-content/uploads/2024/08/PPP-No-Worrds-1.jpg
END:VEVENT
END:VCALENDAR