BEGIN:VCALENDAR
VERSION:2.0
PRODID:-//The Tackle Box - ECPv6.15.17.1//NONSGML v1.0//EN
CALSCALE:GREGORIAN
METHOD:PUBLISH
X-ORIGINAL-URL:https://tystacklebox.com
X-WR-CALDESC:Events for The Tackle Box
REFRESH-INTERVAL;VALUE=DURATION:PT1H
X-Robots-Tag:noindex
X-PUBLISHED-TTL:PT1H
BEGIN:VTIMEZONE
TZID:America/New_York
BEGIN:DAYLIGHT
TZOFFSETFROM:-0500
TZOFFSETTO:-0400
TZNAME:EDT
DTSTART:20240310T070000
END:DAYLIGHT
BEGIN:STANDARD
TZOFFSETFROM:-0400
TZOFFSETTO:-0500
TZNAME:EST
DTSTART:20241103T060000
END:STANDARD
BEGIN:DAYLIGHT
TZOFFSETFROM:-0500
TZOFFSETTO:-0400
TZNAME:EDT
DTSTART:20250309T070000
END:DAYLIGHT
BEGIN:STANDARD
TZOFFSETFROM:-0400
TZOFFSETTO:-0500
TZNAME:EST
DTSTART:20251102T060000
END:STANDARD
BEGIN:DAYLIGHT
TZOFFSETFROM:-0500
TZOFFSETTO:-0400
TZNAME:EDT
DTSTART:20260308T070000
END:DAYLIGHT
BEGIN:STANDARD
TZOFFSETFROM:-0400
TZOFFSETTO:-0500
TZNAME:EST
DTSTART:20261101T060000
END:STANDARD
BEGIN:DAYLIGHT
TZOFFSETFROM:-0500
TZOFFSETTO:-0400
TZNAME:EDT
DTSTART:20270314T070000
END:DAYLIGHT
BEGIN:STANDARD
TZOFFSETFROM:-0400
TZOFFSETTO:-0500
TZNAME:EST
DTSTART:20271107T060000
END:STANDARD
END:VTIMEZONE
BEGIN:VEVENT
DTSTART;TZID=America/New_York:20251105T100000
DTEND;TZID=America/New_York:20251105T100000
DTSTAMP:20260421T191201
CREATED:20251103T220444Z
LAST-MODIFIED:20251103T220559Z
UID:10000546-1762336800-1762336800@tystacklebox.com
SUMMARY:Join us for. . . .The Life of Martin Luther
DESCRIPTION:Led by Pastor Nila Cogan (St. Thomas Lutheran Church)\,  \n\n\n\nStudy topics include: \n\n\n\nBiography. .  .Education. .  .the 95 Theses. . . the Reformation. . .Luther’s Historical Impact
URL:https://tystacklebox.com/activity/join-us-for-the-life-of-martin-luther/
CATEGORIES:Community Events,Discover,Explore
ATTACH;FMTTYPE=image/jpeg:https://tystacklebox.com/wp-content/uploads/2025/11/download-4.jpg
END:VEVENT
BEGIN:VEVENT
DTSTART;TZID=America/New_York:20251121T183000
DTEND;TZID=America/New_York:20251121T183000
DTSTAMP:20260421T191201
CREATED:20241113T190246Z
LAST-MODIFIED:20251202T155321Z
UID:10000538-1763749800-1763749800@tystacklebox.com
SUMMARY:Hooversville Light Up Night
DESCRIPTION:Join us for Hooversville Light Up Night! Our friends at Somerset Trust will serve hot cocoa\, and our community friends will bring cookies. Make this an annual tradition for your family. We know it will be a great Christmas memory.
URL:https://tystacklebox.com/activity/hooversville-light-up-night/
LOCATION:Hooversville Firemen’s Grove\, 807 Barn Street\, Hooversville\, Pennsylvania\, 15936\, United States
CATEGORIES:Community Events,Remember
ATTACH;FMTTYPE=image/png:https://tystacklebox.com/wp-content/uploads/2024/11/Christmas-Tree.png
END:VEVENT
BEGIN:VEVENT
DTSTART;TZID=America/New_York:20251205T070000
DTEND;TZID=America/New_York:20251205T100000
DTSTAMP:20260421T191201
CREATED:20251103T213720Z
LAST-MODIFIED:20251202T212734Z
UID:10000533-1764918000-1764928800@tystacklebox.com
SUMMARY:Sweet Fridays
DESCRIPTION:Every Friday\, from 7-10 am\, The Tackle Box hosts Sweet Fridays for our community. Breakfast items are served\, and our coffee bar is open to all. Come join the fun and the fellowship!
URL:https://tystacklebox.com/activity/sweet-fridays/2025-12-05/
LOCATION:The Tackle Box\, 964 Barn Street\, Hooversville\, PA\, 15936\, United States
CATEGORIES:Community Events
ATTACH;FMTTYPE=image/jpeg:https://tystacklebox.com/wp-content/uploads/2021/01/Breakfast.jpg
END:VEVENT
BEGIN:VEVENT
DTSTART;TZID=America/New_York:20251206T090000
DTEND;TZID=America/New_York:20251206T110000
DTSTAMP:20260421T191201
CREATED:20231113T155053Z
LAST-MODIFIED:20251202T170832Z
UID:10000187-1765011600-1765018800@tystacklebox.com
SUMMARY:A Visit With Santa: Pictures and Cookies
DESCRIPTION:🎅 Santa is on his way!He’s making a special stop at The Tackle Box for cookies\, giggles\, and holiday cheer. Santa will be snapping photos with kids of all ages—yes\, grown-ups too! \n\n\n\nJoin the fun and make a magical memory with the jolliest guy in a red suit! ✨ \n\n\n\n\n\n\nEvent Registration
URL:https://tystacklebox.com/activity/a-visit-with-santa-pictures-and-cookies/
LOCATION:The Tackle Box\, 964 Barn Street\, Hooversville\, PA\, 15936\, United States
CATEGORIES:Community Events,Discover,Imagine
ATTACH;FMTTYPE=image/png:https://tystacklebox.com/wp-content/uploads/2023/11/Santa-Cookies.png
END:VEVENT
BEGIN:VEVENT
DTSTART;TZID=America/New_York:20260213T183000
DTEND;TZID=America/New_York:20260213T183000
DTSTAMP:20260421T191201
CREATED:20251202T161252Z
LAST-MODIFIED:20260110T204228Z
UID:10000543-1771007400-1771007400@tystacklebox.com
SUMMARY:A Night to Remember: Retro Prom Night
DESCRIPTION:It’s Friday night\, and you deserve an unforgettable escape. Slip into your sharpest throwback prom threads and join us for an evening packed with trivia\, delicious food\, and dancing. The event takes you all the way back. Relive high school memories and make new ones. \n\n\n\nThis BYOB celebration is perfect for a romantic night with your favorite person or a wild\, nostalgia-filled outing with your besties. Dress for your prom decade—1950s through 2000s—and show off your moves on the dance floor. \n\n\n\nGet ready to laugh\, reminisce\, and party like it’s your favorite era all over again. \n\n\n\n\n\n\nGet Tickets!
URL:https://tystacklebox.com/activity/retro-prom-night/
CATEGORIES:Community Events,Fundraising,Imagine,Remember
ATTACH;FMTTYPE=image/png:https://tystacklebox.com/wp-content/uploads/2025/11/Balloon-decor.png
END:VEVENT
BEGIN:VEVENT
DTSTART;TZID=America/New_York:20260613T080000
DTEND;TZID=America/New_York:20260613T170000
DTSTAMP:20260421T191201
CREATED:20240416T234707Z
LAST-MODIFIED:20260117T224124Z
UID:10000534-1781337600-1781370000@tystacklebox.com
SUMMARY:18th Annual TMan Classic Golf Tournament
DESCRIPTION:Registration Opens May 1\, 2026
URL:https://tystacklebox.com/activity/t-man-classic/
CATEGORIES:Community Events,Discover,Fundraising,Remember
ATTACH;FMTTYPE=image/webp:https://tystacklebox.com/wp-content/uploads/2022/04/tman-classic-logo.webp
END:VEVENT
END:VCALENDAR