BEGIN:VCALENDAR
VERSION:2.0
PRODID:-//The Tackle Box - ECPv6.15.17.1//NONSGML v1.0//EN
CALSCALE:GREGORIAN
METHOD:PUBLISH
X-WR-CALNAME:The Tackle Box
X-ORIGINAL-URL:https://tystacklebox.com
X-WR-CALDESC:Events for The Tackle Box
REFRESH-INTERVAL;VALUE=DURATION:PT1H
X-Robots-Tag:noindex
X-PUBLISHED-TTL:PT1H
BEGIN:VTIMEZONE
TZID:America/New_York
BEGIN:DAYLIGHT
TZOFFSETFROM:-0500
TZOFFSETTO:-0400
TZNAME:EDT
DTSTART:20250309T070000
END:DAYLIGHT
BEGIN:STANDARD
TZOFFSETFROM:-0400
TZOFFSETTO:-0500
TZNAME:EST
DTSTART:20251102T060000
END:STANDARD
BEGIN:DAYLIGHT
TZOFFSETFROM:-0500
TZOFFSETTO:-0400
TZNAME:EDT
DTSTART:20260308T070000
END:DAYLIGHT
BEGIN:STANDARD
TZOFFSETFROM:-0400
TZOFFSETTO:-0500
TZNAME:EST
DTSTART:20261101T060000
END:STANDARD
BEGIN:DAYLIGHT
TZOFFSETFROM:-0500
TZOFFSETTO:-0400
TZNAME:EDT
DTSTART:20270314T070000
END:DAYLIGHT
BEGIN:STANDARD
TZOFFSETFROM:-0400
TZOFFSETTO:-0500
TZNAME:EST
DTSTART:20271107T060000
END:STANDARD
END:VTIMEZONE
BEGIN:VEVENT
DTSTART;TZID=America/New_York:20260401T100000
DTEND;TZID=America/New_York:20260401T100000
DTSTAMP:20260421T113253
CREATED:20260110T205447Z
LAST-MODIFIED:20260328T161225Z
UID:10000540-1775037600-1775037600@tystacklebox.com
SUMMARY:A Bible Study. . . .The Ten Commandments
DESCRIPTION:Led by Pastor Nila Cogan (St. Thomas Lutheran Church)\,  \n\n\n\nWe’ve all heard the Ten Commandments as a list of “don’ts”—but what if they’re also an invitation to something more? What do the Ten Commandments teach us about how to live\, love\, and grow? How do they draw us closer to God and deepen our connection with one another? \n\n\n\nJoin us for the next five Wednesday mornings\, beginning February 25th\, as we dive into God’s Word together and discover the life-giving wisdom behind the Ten Commandments.
URL:https://tystacklebox.com/activity/join-us-for-the-life-of-martin-luther-2/
CATEGORIES:Community Events,Discover,Explore
ATTACH;FMTTYPE=image/png:https://tystacklebox.com/wp-content/uploads/2025/11/Ten-Commandments.png
END:VEVENT
BEGIN:VEVENT
DTSTART;TZID=America/New_York:20260424T070000
DTEND;TZID=America/New_York:20260424T100000
DTSTAMP:20260421T113253
CREATED:20251214T212239Z
LAST-MODIFIED:20260417T194410Z
UID:10000544-1777014000-1777024800@tystacklebox.com
SUMMARY:Sweet Fridays
DESCRIPTION:Every Friday from 7–10 AM\, The Tackle Box is serving up Sweet Fridays! Swing by for breakfast treats\, grab a cup from our open coffee bar\, and start your morning with good food\, great company\, and even better vibes. Come for the sweets\, stay for the fellowship!
URL:https://tystacklebox.com/activity/sweet-fridays-2/
LOCATION:The Tackle Box\, 964 Barn Street\, Hooversville\, PA\, 15936\, United States
CATEGORIES:Community Events
ATTACH;FMTTYPE=image/jpeg:https://tystacklebox.com/wp-content/uploads/2021/01/Breakfast.jpg
END:VEVENT
BEGIN:VEVENT
DTSTART;TZID=America/New_York:20260613T080000
DTEND;TZID=America/New_York:20260613T170000
DTSTAMP:20260421T113253
CREATED:20240416T234707Z
LAST-MODIFIED:20260117T224124Z
UID:10000534-1781337600-1781370000@tystacklebox.com
SUMMARY:18th Annual TMan Classic Golf Tournament
DESCRIPTION:Registration Opens May 1\, 2026
URL:https://tystacklebox.com/activity/t-man-classic/
CATEGORIES:Community Events,Discover,Fundraising,Remember
ATTACH;FMTTYPE=image/webp:https://tystacklebox.com/wp-content/uploads/2022/04/tman-classic-logo.webp
END:VEVENT
END:VCALENDAR